BEGIN:VCALENDAR
VERSION:2.0
PRODID:-//Union Nautique de Morges - ECPv4.6.19//NONSGML v1.0//EN
CALSCALE:GREGORIAN
METHOD:PUBLISH
X-WR-CALNAME:Union Nautique de Morges
X-ORIGINAL-URL:http://unionnautique.ch
X-WR-CALDESC:Events for Union Nautique de Morges
BEGIN:VEVENT
DTSTART;TZID=UTC+1:20150113T190000
DTEND;TZID=UTC+1:20150113T210000
DTSTAMP:20260423T044801
CREATED:20150106T053705Z
LAST-MODIFIED:20150106T053705Z
UID:1942-1421175600-1421182800@unionnautique.ch
SUMMARY:Mardi 13 Janvier Comité
DESCRIPTION:Séance de comité  \n\nde 19 H à 21 H \n
URL:http://unionnautique.ch/event/mardi-13-janvier-comite/
LOCATION:Union Nautique de Morges 25\, Port du Petit-Bois\, Prom. du Petit-Bois\,\, Morges\, vaud\, 1110\, Suisse
END:VEVENT
END:VCALENDAR