BEGIN:VCALENDAR
VERSION:2.0
PRODID:-//Union Nautique de Morges - ECPv4.6.19//NONSGML v1.0//EN
CALSCALE:GREGORIAN
METHOD:PUBLISH
X-WR-CALNAME:Union Nautique de Morges
X-ORIGINAL-URL:http://unionnautique.ch
X-WR-CALDESC:Events for Union Nautique de Morges
BEGIN:VEVENT
DTSTART;TZID=UTC+1:20160315T190000
DTEND;TZID=UTC+1:20160315T210000
DTSTAMP:20260421T140253
CREATED:20160312T122937Z
LAST-MODIFIED:20160312T122937Z
UID:2694-1458068400-1458075600@unionnautique.ch
SUMMARY:Mardi 15 Mars Comité 
DESCRIPTION:Le comité tiendra séance  \nle Mardi 15 Mars à 19h00 \nfin de séance : 21h00 \n
URL:http://unionnautique.ch/event/mardi-15-mars-comite/
LOCATION:Union Nautique de Morges 25\, Port du Petit-Bois\, Prom. du Petit-Bois\,\, Morges\, vaud\, 1110\, Suisse
END:VEVENT
END:VCALENDAR