BEGIN:VCALENDAR
VERSION:2.0
PRODID:-//Union Nautique de Morges - ECPv4.6.19//NONSGML v1.0//EN
CALSCALE:GREGORIAN
METHOD:PUBLISH
X-WR-CALNAME:Union Nautique de Morges
X-ORIGINAL-URL:http://unionnautique.ch
X-WR-CALDESC:Events for Union Nautique de Morges
BEGIN:VEVENT
DTSTART;TZID=UTC+1:20160423T080000
DTEND;TZID=UTC+1:20160423T233000
DTSTAMP:20260421T070602
CREATED:20160401T112408Z
LAST-MODIFIED:20160401T112408Z
UID:2709-1461398400-1461454200@unionnautique.ch
SUMMARY:Nettoyages de Printemps du Samedi 23 Avril
DESCRIPTION:Le Comité vous informe pour les nettoyages du Samedi 23 Avril  \n\n \n
URL:http://unionnautique.ch/event/nettoyages-de-printemps-du-samedi-23-avril/
LOCATION:Union Nautique de Morges 25\, Port du Petit-Bois\, Prom. du Petit-Bois\,\, Morges\, vaud\, 1110\, Suisse
END:VEVENT
END:VCALENDAR