BEGIN:VCALENDAR
VERSION:2.0
PRODID:-//Union Nautique de Morges - ECPv4.6.19//NONSGML v1.0//EN
CALSCALE:GREGORIAN
METHOD:PUBLISH
X-WR-CALNAME:Union Nautique de Morges
X-ORIGINAL-URL:http://unionnautique.ch
X-WR-CALDESC:Events for Union Nautique de Morges
BEGIN:VEVENT
DTSTART;TZID=UTC+1:20170408T113000
DTEND;TZID=UTC+1:20170408T180000
DTSTAMP:20260419T165757
CREATED:20170324T060804Z
LAST-MODIFIED:20170403T114244Z
UID:2973-1491651000-1491674400@unionnautique.ch
SUMMARY:Ouverture de saison 2017 du Samedi 8 Avril
DESCRIPTION:Le comité vous invite Tous à participer à l’ouverture de la saison 2017 \n  \n  \n \n
URL:http://unionnautique.ch/event/ouverture-de-saison-2017-du-samedi-8-avril/
LOCATION:Union Nautique de Morges 25\, Port du Petit-Bois\, Prom. du Petit-Bois\,\, Morges\, vaud\, 1110\, Suisse
END:VEVENT
END:VCALENDAR