BEGIN:VCALENDAR
VERSION:2.0
PRODID:-//Union Nautique de Morges - ECPv4.6.19//NONSGML v1.0//EN
CALSCALE:GREGORIAN
METHOD:PUBLISH
X-WR-CALNAME:Union Nautique de Morges
X-ORIGINAL-URL:http://unionnautique.ch
X-WR-CALDESC:Events for Union Nautique de Morges
BEGIN:VEVENT
DTSTART;TZID=UTC+1:20161202T183000
DTEND;TZID=UTC+1:20161202T233000
DTSTAMP:20260420T150352
CREATED:20161108T132238Z
LAST-MODIFIED:20161109T133256Z
UID:2819-1480703400-1480721400@unionnautique.ch
SUMMARY:Repas de fin d'année du 2 Décembre 2016
DESCRIPTION:Edith \,Jean – Claude et Jean – Jacques  \nvous préparent un super repas de fin d’année \nInscriptions jusqu’au 25 Novembre dernier délai !!! \n \n
URL:http://unionnautique.ch/event/repas-de-fin-dannee-du-2-decembre-2016/
LOCATION:Union Nautique de Morges 25\, Port du Petit-Bois\, Prom. du Petit-Bois\,\, Morges\, vaud\, 1110\, Suisse
END:VEVENT
END:VCALENDAR