BEGIN:VCALENDAR
VERSION:2.0
PRODID:-//Union Nautique de Morges - ECPv4.6.19//NONSGML v1.0//EN
CALSCALE:GREGORIAN
METHOD:PUBLISH
X-WR-CALNAME:Union Nautique de Morges
X-ORIGINAL-URL:http://unionnautique.ch
X-WR-CALDESC:Events for Union Nautique de Morges
BEGIN:VEVENT
DTSTART;TZID=UTC+1:20140318T190000
DTEND;TZID=UTC+1:20140318T210000
DTSTAMP:20260425T204426
CREATED:20140213T133718Z
LAST-MODIFIED:20140213T133918Z
UID:472-1395169200-1395176400@unionnautique.ch
SUMMARY:Séance de comité
DESCRIPTION:
URL:http://unionnautique.ch/event/seance-de-comite-2/
LOCATION:Union Nautique de Morges 25\, Port du Petit-Bois\, Prom. du Petit-Bois\,\, Morges\, vaud\, 1110\, Suisse
END:VEVENT
END:VCALENDAR