BEGIN:VCALENDAR
VERSION:2.0
PRODID:-//Union Nautique de Morges - ECPv4.6.19//NONSGML v1.0//EN
CALSCALE:GREGORIAN
METHOD:PUBLISH
X-WR-CALNAME:Union Nautique de Morges
X-ORIGINAL-URL:http://unionnautique.ch
X-WR-CALDESC:Events for Union Nautique de Morges
BEGIN:VEVENT
DTSTART;TZID=UTC+1:20140624T190000
DTEND;TZID=UTC+1:20140624T210000
DTSTAMP:20260425T192500
CREATED:20140516T050335Z
LAST-MODIFIED:20140516T050335Z
UID:1056-1403636400-1403643600@unionnautique.ch
SUMMARY:Séance de comité 
DESCRIPTION:Le président vous signale qu’il y aura une \nséance de comité \nle Mardi 24 Juin de 19h00 à 21h00 \n
URL:http://unionnautique.ch/event/seance-de-comite-3/
LOCATION:Union Nautique de Morges 25\, Port du Petit-Bois\, Prom. du Petit-Bois\,\, Morges\, vaud\, 1110\, Suisse
END:VEVENT
END:VCALENDAR