BEGIN:VCALENDAR
VERSION:2.0
PRODID:-//Union Nautique de Morges - ECPv4.6.19//NONSGML v1.0//EN
CALSCALE:GREGORIAN
METHOD:PUBLISH
X-WR-CALNAME:Union Nautique de Morges
X-ORIGINAL-URL:http://unionnautique.ch
X-WR-CALDESC:Events for Union Nautique de Morges
BEGIN:VEVENT
DTSTART;TZID=UTC+1:20140212T190000
DTEND;TZID=UTC+1:20140212T210000
DTSTAMP:20260425T204342
CREATED:20140210T083740Z
LAST-MODIFIED:20140210T084146Z
UID:455-1392231600-1392238800@unionnautique.ch
SUMMARY:Séance de comité
DESCRIPTION:La 1ère séance de comité est fixée au : \nMERCREDI 12 Février à 19h00 \n
URL:http://unionnautique.ch/event/seance-de-comite/
LOCATION:Union Nautique de Morges 25\, Port du Petit-Bois\, Prom. du Petit-Bois\,\, Morges\, vaud\, 1110\, Suisse
END:VEVENT
END:VCALENDAR