BEGIN:VCALENDAR
VERSION:2.0
PRODID:-//Union Nautique de Morges - ECPv4.6.19//NONSGML v1.0//EN
CALSCALE:GREGORIAN
METHOD:PUBLISH
X-WR-CALNAME:Union Nautique de Morges
X-ORIGINAL-URL:http://unionnautique.ch
X-WR-CALDESC:Events for Union Nautique de Morges
BEGIN:VEVENT
DTSTART;TZID=UTC+1:20140712T110000
DTEND;TZID=UTC+1:20140713T190000
DTSTAMP:20260425T162956
CREATED:20140501T142514Z
LAST-MODIFIED:20140626T054810Z
UID:1036-1405162800-1405278000@unionnautique.ch
SUMMARY:Sortie lacustre
DESCRIPTION:     \n
URL:http://unionnautique.ch/event/sortie-lacustre/
LOCATION:Union Nautique de Morges 25\, Port du Petit-Bois\, Prom. du Petit-Bois\,\, Morges\, vaud\, 1110\, Suisse
END:VEVENT
END:VCALENDAR